BEGIN:VCALENDAR
VERSION:2.0
PRODID:spatie/icalendar-generator
DESCRIPTION:Events from MJ Music Productions
X-WR-CALDESC:Events from MJ Music Productions
REFRESH-INTERVAL;VALUE=DURATION:PT1440M
X-PUBLISHED-TTL:PT1440M
BEGIN:VTIMEZONE
TZID:Etc/GMT+0
BEGIN:STANDARD
DTSTART:20151026T190000Z
TZOFFSETFROM:+0000
TZOFFSETTO:+0000
END:STANDARD
END:VTIMEZONE
BEGIN:VTIMEZONE
TZID:UTC
BEGIN:STANDARD
DTSTART:20250725T092326Z
TZOFFSETFROM:+0000
TZOFFSETTO:+0000
END:STANDARD
END:VTIMEZONE
BEGIN:VEVENT
UID:1672-160
DTSTAMP:20260421T092326Z
SUMMARY:Moose Lodge
LOCATION:
ORGANIZER;CN=djmike:MAILTO:djmike@mjmusic.net
DTSTART;TZID=Etc/GMT+0:20160722T190000
DTEND;TZID=Etc/GMT+0:20160722T230000
X-ALT-DESC;FMTTYPE=TEXT/HTML:Bel Air Moose Lodge Karaoke party the last Fri
 day of every month. Hosted by DJ MIKe. Friday July 29th 7-11PM. Food &amp;amp\
 ; drink specials. Quick Rotations! 310 E. Jarrettsville Rd\, Forest Hill\,
  MD. 410-838-9624.
CATEGORIES:General
URL;VALUE=URI:http://www.mjmusic.net/mc-events/moose-lodge-4/
METHOD:PUBLISH
END:VEVENT
END:VCALENDAR