BEGIN:VCALENDAR
VERSION:2.0
PRODID:spatie/icalendar-generator
DESCRIPTION:Events from MJ Music Productions
X-WR-CALDESC:Events from MJ Music Productions
REFRESH-INTERVAL;VALUE=DURATION:PT1440M
X-PUBLISHED-TTL:PT1440M
BEGIN:VTIMEZONE
TZID:Etc/GMT+0
BEGIN:STANDARD
DTSTART:20190217T203000Z
TZOFFSETFROM:+0000
TZOFFSETTO:+0000
END:STANDARD
END:VTIMEZONE
BEGIN:VTIMEZONE
TZID:UTC
BEGIN:STANDARD
DTSTART:20250725T090903Z
TZOFFSETFROM:+0000
TZOFFSETTO:+0000
END:STANDARD
END:VTIMEZONE
BEGIN:VEVENT
UID:2094-582
DTSTAMP:20260421T090903Z
SUMMARY:Mystic Island Casino
LOCATION:
ORGANIZER;CN=djmike:MAILTO:djmike@mjmusic.net
DTSTART;TZID=Etc/GMT+0:20191114T203000
DTEND;TZID=Etc/GMT+0:20191114T234500
X-ALT-DESC;FMTTYPE=TEXT/HTML:Karaoke party every Thurs. Hosted by Tanner. N
 ew songs to sing. Food &amp;amp\; drink specials. 110 Mathistown Rd Little Egg
  Harbor\, NJ. 609-448-2926.
CATEGORIES:General
URL;VALUE=URI:http://www.mjmusic.net/mc-events/mystic-island-casino-218/
METHOD:PUBLISH
END:VEVENT
END:VCALENDAR