BEGIN:VCALENDAR
VERSION:2.0
PRODID:spatie/icalendar-generator
DESCRIPTION:Events from MJ Music Productions
X-WR-CALDESC:Events from MJ Music Productions
REFRESH-INTERVAL;VALUE=DURATION:PT1440M
X-PUBLISHED-TTL:PT1440M
BEGIN:VTIMEZONE
TZID:Etc/GMT+0
BEGIN:STANDARD
DTSTART:20161213T190000Z
TZOFFSETFROM:+0000
TZOFFSETTO:+0000
END:STANDARD
END:VTIMEZONE
BEGIN:VTIMEZONE
TZID:UTC
BEGIN:STANDARD
DTSTART:20250725T090443Z
TZOFFSETFROM:+0000
TZOFFSETTO:+0000
END:STANDARD
END:VTIMEZONE
BEGIN:VEVENT
UID:1842-330
DTSTAMP:20260421T090443Z
SUMMARY:Private Party
LOCATION:
ORGANIZER;CN=djmike:MAILTO:djmike@mjmusic.net
DTSTART;TZID=Etc/GMT+0:20170909T190000
DTEND;TZID=Etc/GMT+0:20170909T220000
X-ALT-DESC;FMTTYPE=TEXT/HTML:Sweet 16
CATEGORIES:General
URL;VALUE=URI:http://www.mjmusic.net/mc-events/private-party-35/
METHOD:PUBLISH
END:VEVENT
END:VCALENDAR