BEGIN:VCALENDAR
VERSION:2.0
PRODID:spatie/icalendar-generator
DESCRIPTION:Events from MJ Music Productions
X-WR-CALDESC:Events from MJ Music Productions
REFRESH-INTERVAL;VALUE=DURATION:PT1440M
X-PUBLISHED-TTL:PT1440M
BEGIN:VTIMEZONE
TZID:Etc/GMT+0
BEGIN:STANDARD
DTSTART:20170114T213000Z
TZOFFSETFROM:+0000
TZOFFSETTO:+0000
END:STANDARD
END:VTIMEZONE
BEGIN:VTIMEZONE
TZID:UTC
BEGIN:STANDARD
DTSTART:20250723T133724Z
TZOFFSETFROM:+0000
TZOFFSETTO:+0000
END:STANDARD
END:VTIMEZONE
BEGIN:VEVENT
UID:1845-333
DTSTAMP:20260419T133724Z
SUMMARY:The Ark
LOCATION:
ORGANIZER;CN=djmike:MAILTO:djmike@mjmusic.net
DTSTART;TZID=Etc/GMT+0:20171011T213000
DTEND;TZID=Etc/GMT+0:20171011T234500
X-ALT-DESC;FMTTYPE=TEXT/HTML:Karaoke party every Wed w/MJ Music. This week 
 hosted by Tanner. Food and drink specials. New songs to sing! Rt 335 N. Pt
 . Pleasant\, NJ. 732-295-1122.
CATEGORIES:General
URL;VALUE=URI:http://www.mjmusic.net/mc-events/the-ark-132/
METHOD:PUBLISH
END:VEVENT
END:VCALENDAR