BEGIN:VCALENDAR
VERSION:2.0
PRODID:spatie/icalendar-generator
DESCRIPTION:Events from MJ Music Productions
X-WR-CALDESC:Events from MJ Music Productions
REFRESH-INTERVAL;VALUE=DURATION:PT1440M
X-PUBLISHED-TTL:PT1440M
BEGIN:VTIMEZONE
TZID:Etc/GMT+0
BEGIN:STANDARD
DTSTART:20170715T213000Z
TZOFFSETFROM:+0000
TZOFFSETTO:+0000
END:STANDARD
END:VTIMEZONE
BEGIN:VTIMEZONE
TZID:UTC
BEGIN:STANDARD
DTSTART:20250723T145857Z
TZOFFSETFROM:+0000
TZOFFSETTO:+0000
END:STANDARD
END:VTIMEZONE
BEGIN:VEVENT
UID:1904-392
DTSTAMP:20260419T145857Z
SUMMARY:The Ark
LOCATION:
ORGANIZER;CN=djmike:MAILTO:djmike@mjmusic.net
DTSTART;TZID=Etc/GMT+0:20180411T213000
DTEND;TZID=Etc/GMT+0:20180411T234500
X-ALT-DESC;FMTTYPE=TEXT/HTML:Karaoke party every Wed with MJ Music. Hosted 
 by Tanner. New songs to sing. Food and drink specials. Rt. 35 N. Pt. Pleas
 ant\, NJ. 732-895-1122.
CATEGORIES:General
URL;VALUE=URI:http://www.mjmusic.net/mc-events/the-ark-154/
METHOD:PUBLISH
END:VEVENT
END:VCALENDAR